BEGIN:VCALENDAR
VERSION:2.0
PRODID:-//Guillotine A.D. - ECPv6.15.20//NONSGML v1.0//EN
CALSCALE:GREGORIAN
METHOD:PUBLISH
X-WR-CALNAME:Guillotine A.D.
X-ORIGINAL-URL:https://guillotinead.com
X-WR-CALDESC:Events for Guillotine A.D.
REFRESH-INTERVAL;VALUE=DURATION:PT1H
X-Robots-Tag:noindex
X-PUBLISHED-TTL:PT1H
BEGIN:VTIMEZONE
TZID:UTC
BEGIN:STANDARD
TZOFFSETFROM:+0000
TZOFFSETTO:+0000
TZNAME:UTC
DTSTART:20210101T000000
END:STANDARD
END:VTIMEZONE
BEGIN:VEVENT
DTSTART;TZID=UTC:20221101T200000
DTEND;TZID=UTC:20221101T233000
DTSTAMP:20260423T150131
CREATED:20220903T135442Z
LAST-MODIFIED:20220903T135718Z
UID:438-1667332800-1667345400@guillotinead.com
SUMMARY:Napalm Death at 40 Watt Club
DESCRIPTION:Napalm Death w/ Brujeria\, Millions of Dead Cops and Guillotine A.D.\n40 Watt Club – Athens\, GA\nTuesday\, November 1st\, 2022\nDoors 7p\, Show 8p\, 18+\nTix: $20 GA Advance\nPresented by Filthy Nasty Productions
URL:https://guillotinead.com/event/napalm-death-at-40-watt-club/
LOCATION:40 Watt Club\, 285 W Washington St\, Athens\, GA\, 30601\, United States
ATTACH;FMTTYPE=image/jpeg:https://guillotinead.com/wp-content/uploads/2022/09/nd.jpg
END:VEVENT
BEGIN:VEVENT
DTSTART;TZID=UTC:20220907T200000
DTEND;TZID=UTC:20220907T233000
DTSTAMP:20260423T150131
CREATED:20220828T015319Z
LAST-MODIFIED:20220828T015319Z
UID:434-1662580800-1662593400@guillotinead.com
SUMMARY:Crowbar at Open Chord
DESCRIPTION:
URL:https://guillotinead.com/event/crowbar-at-open-chord/
LOCATION:Open Chord Stage\, 8502 Kingston Pike\, Knoxville\, TN\, 37919\, United States
ATTACH;FMTTYPE=image/jpeg:https://guillotinead.com/wp-content/uploads/2022/08/crbr.jpg
END:VEVENT
BEGIN:VEVENT
DTSTART;TZID=UTC:20220823T190000
DTEND;TZID=UTC:20220823T233000
DTSTAMP:20260423T150131
CREATED:20220613T022150Z
LAST-MODIFIED:20220613T022257Z
UID:392-1661281200-1661297400@guillotinead.com
SUMMARY:Crowbar at 40 Watt Club
DESCRIPTION:Crowbar\nw/ Spirit Adrift and Guillotine A.D.\n40 Watt Club – Athens\, GA\nTuesday\, August 23rd\, 2022\nDoors 7p\, Show 8p\, All Ages\nPresented by Filthy Nasty Productions
URL:https://guillotinead.com/event/crowbar-at-40-watt-club/
LOCATION:40 Watt Club\, 285 W Washington St\, Athens\, GA\, 30601\, United States
ATTACH;FMTTYPE=image/jpeg:https://guillotinead.com/wp-content/uploads/2022/06/crowbar.jpg
END:VEVENT
BEGIN:VEVENT
DTSTART;TZID=UTC:20220812T210000
DTEND;TZID=UTC:20220812T233000
DTSTAMP:20260423T150131
CREATED:20220527T162301Z
LAST-MODIFIED:20220527T162301Z
UID:256-1660338000-1660347000@guillotinead.com
SUMMARY:Guillotine A.D. / Ox / Tombstone / Spitfire at Santos Bar
DESCRIPTION:
URL:https://guillotinead.com/event/guillotine-a-d-ox-tombstone-spitfire-at-santos-bar/
LOCATION:Santos Bar\, 1135 Decatur Street\, New Orleans\, LA\, 70116\, United States
ATTACH;FMTTYPE=image/jpeg:https://guillotinead.com/wp-content/uploads/2022/05/nola.jpg
END:VEVENT
BEGIN:VEVENT
DTSTART;TZID=UTC:20220715T210000
DTEND;TZID=UTC:20220715T233000
DTSTAMP:20260423T150131
CREATED:20220527T161726Z
LAST-MODIFIED:20220527T161726Z
UID:250-1657918800-1657927800@guillotinead.com
SUMMARY:The Called Out Tour
DESCRIPTION:
URL:https://guillotinead.com/event/the-called-out-tour/
LOCATION:The Wormhole\, 2107 Bull Street\, Savannah\, GA\, 31401\, United States
ATTACH;FMTTYPE=image/jpeg:https://guillotinead.com/wp-content/uploads/2022/05/calledout.jpg
END:VEVENT
BEGIN:VEVENT
DTSTART;TZID=UTC:20220702T200000
DTEND;TZID=UTC:20220702T233000
DTSTAMP:20260423T150131
CREATED:20220527T160801Z
LAST-MODIFIED:20220527T160801Z
UID:246-1656792000-1656804600@guillotinead.com
SUMMARY:Guillotine A.D. / 1134 / Povertybomb
DESCRIPTION:
URL:https://guillotinead.com/event/guillotine-a-d-1134-povertybomb/
LOCATION:The Hideaway\, 235 E Main St\, Johnson City\, TN\, 37604\, United States
ATTACH;FMTTYPE=image/jpeg:https://guillotinead.com/wp-content/uploads/2022/05/tn.jpg
END:VEVENT
BEGIN:VEVENT
DTSTART;TZID=UTC:20220701T210000
DTEND;TZID=UTC:20220701T233000
DTSTAMP:20260423T150131
CREATED:20220527T155940Z
LAST-MODIFIED:20220527T155942Z
UID:241-1656709200-1656718200@guillotinead.com
SUMMARY:Guillotine A.D. / Corrupted Saint / Beast Mode
DESCRIPTION:
URL:https://guillotinead.com/event/guillotine-a-d-corrupted-saint-beast-mode/
LOCATION:Flicker Theatre & Bar\, 263 W Washington St\, Athens\, GA\, 30601\, United States
ATTACH;FMTTYPE=image/jpeg:https://guillotinead.com/wp-content/uploads/2022/05/alb-rel.jpg
END:VEVENT
BEGIN:VEVENT
DTSTART;TZID=UTC:20220625T180000
DTEND;TZID=UTC:20220625T233000
DTSTAMP:20260423T150131
CREATED:20220527T153239Z
LAST-MODIFIED:20220527T153239Z
UID:237-1656180000-1656199800@guillotinead.com
SUMMARY:Guillotine A.D. / NeverFall / Postmortem Repugnance / Curse of Flesh in Spartanburg
DESCRIPTION:
URL:https://guillotinead.com/event/guillotine-a-d-neverfall-postmortem-repugnance-curse-of-flesh-in-spartanburg/
LOCATION:GroundZero\, 3052 Howard St\, Spartanburg\, SC\, 29303\, United States
ATTACH;FMTTYPE=image/jpeg:https://guillotinead.com/wp-content/uploads/2022/05/spartan.jpg
END:VEVENT
BEGIN:VEVENT
DTSTART;TZID=UTC:20220624T200000
DTEND;TZID=UTC:20220624T233000
DTSTAMP:20260423T150131
CREATED:20220526T221324Z
LAST-MODIFIED:20220526T221324Z
UID:232-1656100800-1656113400@guillotinead.com
SUMMARY:Guillotine A.D. / StormToker / Age of Panic
DESCRIPTION:
URL:https://guillotinead.com/event/guillotine-a-d-stormtoker-age-of-panic/
LOCATION:Al’s Bar of Lexington\, 601 N Limestone\, Lexington\, KY\, 40508\, United States
ATTACH;FMTTYPE=image/jpeg:https://guillotinead.com/wp-content/uploads/2022/05/ky.jpg
END:VEVENT
BEGIN:VEVENT
DTSTART;TZID=UTC:20220623T200000
DTEND;TZID=UTC:20220623T233000
DTSTAMP:20260423T150131
CREATED:20220526T220647Z
LAST-MODIFIED:20220526T220647Z
UID:228-1656014400-1656027000@guillotinead.com
SUMMARY:BORN TO FALL CD Listening Party/Akademia Beer Release
DESCRIPTION:
URL:https://guillotinead.com/event/born-to-fall-cd-listening-party-akademia-beer-release/
LOCATION:Akademia Brewing Company\, 150 Crane Drive\, Athens\, GA\, 30606\, United States
ATTACH;FMTTYPE=image/jpeg:https://guillotinead.com/wp-content/uploads/2022/05/akaaka.jpg
END:VEVENT
BEGIN:VEVENT
DTSTART;TZID=UTC:20220601T190000
DTEND;TZID=UTC:20220601T233000
DTSTAMP:20260423T150131
CREATED:20220526T214732Z
LAST-MODIFIED:20220526T220043Z
UID:218-1654110000-1654126200@guillotinead.com
SUMMARY:NeverFall\, Morbid Cross (NJ)\, and Guillotine A.D. @ Sabbath Brewing
DESCRIPTION:
URL:https://guillotinead.com/event/neverfall-morbid-cross-nj-and-guillotine-a-d-sabbath-brewing/
LOCATION:Sabbath Brewing\, 530 Flat Shoals Ave SE\, Atlanta\, GA\, 30316\, United States
ATTACH;FMTTYPE=image/jpeg:https://guillotinead.com/wp-content/uploads/2022/05/280659447_5304979646213848_8083324613311890291_n.jpg
END:VEVENT
BEGIN:VEVENT
DTSTART;TZID=UTC:20220317T200000
DTEND;TZID=UTC:20220317T233000
DTSTAMP:20260423T150131
CREATED:20220311T033652Z
LAST-MODIFIED:20220311T033652Z
UID:101-1647547200-1647559800@guillotinead.com
SUMMARY:Guillotine A.D.\, Tombstone\, Death Nebula at The Odditorium
DESCRIPTION: 
URL:https://guillotinead.com/event/guillotine-a-d-tombstone-death-nebula-at-the-odditorium/
LOCATION:The Odditorium\, 1045 Haywood Rd\, Asheville\, NC\, 28806\, United States
END:VEVENT
BEGIN:VEVENT
DTSTART;TZID=UTC:20220312T180000
DTEND;TZID=UTC:20220312T233000
DTSTAMP:20260423T150131
CREATED:20220311T033053Z
LAST-MODIFIED:20220311T033123Z
UID:95-1647108000-1647127800@guillotinead.com
SUMMARY:Tombstone / Guillotine A.D. at the Brass Mug
DESCRIPTION: 
URL:https://guillotinead.com/event/tombstone-guillotine-a-d-at-the-brass-mug/
LOCATION:Brass Mug\, 1450 Skipper Rd\, Tampa\, FL\, 33613\, United States
END:VEVENT
BEGIN:VEVENT
DTSTART;TZID=UTC:20220311T190000
DTEND;TZID=UTC:20220311T233000
DTSTAMP:20260423T150131
CREATED:20220311T032516Z
LAST-MODIFIED:20220311T032516Z
UID:84-1647025200-1647041400@guillotinead.com
SUMMARY:Guillotine A.D. / Tombstone / Corrupted Saint / Altar of Flesh
DESCRIPTION: 
URL:https://guillotinead.com/event/guillotine-a-d-tombstone-corrupted-saint-altar-of-flesh/
LOCATION:Warrior On The River\, 9330 W. Tennesee St.\, Tallahassee\, FL\, 32304\, United States
END:VEVENT
END:VCALENDAR